BEGIN:VCALENDAR
VERSION:2.0
PRODID:-//StoneRidge Subdivision - ECPv6.15.20//NONSGML v1.0//EN
CALSCALE:GREGORIAN
METHOD:PUBLISH
X-WR-CALNAME:StoneRidge Subdivision
X-ORIGINAL-URL:https://www.stoneridgetc.com
X-WR-CALDESC:Events for StoneRidge Subdivision
REFRESH-INTERVAL;VALUE=DURATION:PT1H
X-Robots-Tag:noindex
X-PUBLISHED-TTL:PT1H
BEGIN:VTIMEZONE
TZID:America/Detroit
BEGIN:DAYLIGHT
TZOFFSETFROM:-0500
TZOFFSETTO:-0400
TZNAME:EDT
DTSTART:20130310T070000
END:DAYLIGHT
BEGIN:STANDARD
TZOFFSETFROM:-0400
TZOFFSETTO:-0500
TZNAME:EST
DTSTART:20131103T060000
END:STANDARD
BEGIN:DAYLIGHT
TZOFFSETFROM:-0500
TZOFFSETTO:-0400
TZNAME:EDT
DTSTART:20140309T070000
END:DAYLIGHT
BEGIN:STANDARD
TZOFFSETFROM:-0400
TZOFFSETTO:-0500
TZNAME:EST
DTSTART:20141102T060000
END:STANDARD
BEGIN:DAYLIGHT
TZOFFSETFROM:-0500
TZOFFSETTO:-0400
TZNAME:EDT
DTSTART:20150308T070000
END:DAYLIGHT
BEGIN:STANDARD
TZOFFSETFROM:-0400
TZOFFSETTO:-0500
TZNAME:EST
DTSTART:20151101T060000
END:STANDARD
BEGIN:DAYLIGHT
TZOFFSETFROM:-0500
TZOFFSETTO:-0400
TZNAME:EDT
DTSTART:20160313T070000
END:DAYLIGHT
BEGIN:STANDARD
TZOFFSETFROM:-0400
TZOFFSETTO:-0500
TZNAME:EST
DTSTART:20161106T060000
END:STANDARD
BEGIN:DAYLIGHT
TZOFFSETFROM:-0500
TZOFFSETTO:-0400
TZNAME:EDT
DTSTART:20170312T070000
END:DAYLIGHT
BEGIN:STANDARD
TZOFFSETFROM:-0400
TZOFFSETTO:-0500
TZNAME:EST
DTSTART:20171105T060000
END:STANDARD
BEGIN:DAYLIGHT
TZOFFSETFROM:-0500
TZOFFSETTO:-0400
TZNAME:EDT
DTSTART:20180311T070000
END:DAYLIGHT
BEGIN:STANDARD
TZOFFSETFROM:-0400
TZOFFSETTO:-0500
TZNAME:EST
DTSTART:20181104T060000
END:STANDARD
BEGIN:DAYLIGHT
TZOFFSETFROM:-0500
TZOFFSETTO:-0400
TZNAME:EDT
DTSTART:20190310T070000
END:DAYLIGHT
BEGIN:STANDARD
TZOFFSETFROM:-0400
TZOFFSETTO:-0500
TZNAME:EST
DTSTART:20191103T060000
END:STANDARD
BEGIN:DAYLIGHT
TZOFFSETFROM:-0500
TZOFFSETTO:-0400
TZNAME:EDT
DTSTART:20200308T070000
END:DAYLIGHT
BEGIN:STANDARD
TZOFFSETFROM:-0400
TZOFFSETTO:-0500
TZNAME:EST
DTSTART:20201101T060000
END:STANDARD
BEGIN:DAYLIGHT
TZOFFSETFROM:-0500
TZOFFSETTO:-0400
TZNAME:EDT
DTSTART:20210314T070000
END:DAYLIGHT
BEGIN:STANDARD
TZOFFSETFROM:-0400
TZOFFSETTO:-0500
TZNAME:EST
DTSTART:20211107T060000
END:STANDARD
BEGIN:DAYLIGHT
TZOFFSETFROM:-0500
TZOFFSETTO:-0400
TZNAME:EDT
DTSTART:20220313T070000
END:DAYLIGHT
BEGIN:STANDARD
TZOFFSETFROM:-0400
TZOFFSETTO:-0500
TZNAME:EST
DTSTART:20221106T060000
END:STANDARD
BEGIN:DAYLIGHT
TZOFFSETFROM:-0500
TZOFFSETTO:-0400
TZNAME:EDT
DTSTART:20230312T070000
END:DAYLIGHT
BEGIN:STANDARD
TZOFFSETFROM:-0400
TZOFFSETTO:-0500
TZNAME:EST
DTSTART:20231105T060000
END:STANDARD
BEGIN:DAYLIGHT
TZOFFSETFROM:-0500
TZOFFSETTO:-0400
TZNAME:EDT
DTSTART:20240310T070000
END:DAYLIGHT
BEGIN:STANDARD
TZOFFSETFROM:-0400
TZOFFSETTO:-0500
TZNAME:EST
DTSTART:20241103T060000
END:STANDARD
BEGIN:DAYLIGHT
TZOFFSETFROM:-0500
TZOFFSETTO:-0400
TZNAME:EDT
DTSTART:20250309T070000
END:DAYLIGHT
BEGIN:STANDARD
TZOFFSETFROM:-0400
TZOFFSETTO:-0500
TZNAME:EST
DTSTART:20251102T060000
END:STANDARD
BEGIN:DAYLIGHT
TZOFFSETFROM:-0500
TZOFFSETTO:-0400
TZNAME:EDT
DTSTART:20260308T070000
END:DAYLIGHT
BEGIN:STANDARD
TZOFFSETFROM:-0400
TZOFFSETTO:-0500
TZNAME:EST
DTSTART:20261101T060000
END:STANDARD
END:VTIMEZONE
BEGIN:VEVENT
DTSTART;TZID=America/Detroit:20251106T180000
DTEND;TZID=America/Detroit:20251106T200000
DTSTAMP:20260419T224451
CREATED:20251023T154803Z
LAST-MODIFIED:20251023T155750Z
UID:2362-1762452000-1762459200@www.stoneridgetc.com
SUMMARY:ANNUAL MEETING 2025
DESCRIPTION:STONERIDGE PROPERTY OWNERS ASSOCIATION\nANNUAL MEETING NOTICE \nThursday November 6\, 2025 6 pm\nLocation - 12935 S. West Bay Shore Dr. TC\, MI  - CenterPointe (3rd floor conference room) \nGoogle Map to CenterPoint
URL:https://www.stoneridgetc.com/event/annual-meeting-2025/
LOCATION:CENTERPOINTE\, 12935 S. WEST BAY SHORE DR\, Traverse City\, MI\, 49684\, United States
CATEGORIES:Annual Meeting
ATTACH;FMTTYPE=image/jpeg:https://www.stoneridgetc.com/wp-content/uploads/2014/12/annual-meeting-clip-art_506392-e1698791797541.jpg
ORGANIZER;CN="Tim Webb":MAILTO:tim.gmi@hotmail.com
END:VEVENT
BEGIN:VEVENT
DTSTART;TZID=America/Detroit:20250516T090000
DTEND;TZID=America/Detroit:20250517T140000
DTSTAMP:20260419T224451
CREATED:20250422T200631Z
LAST-MODIFIED:20250422T200725Z
UID:2347-1747386000-1747490400@www.stoneridgetc.com
SUMMARY:Garage Sale 2025
DESCRIPTION:Annual StoneRidge Garage / Yard sale \nMay 16th and 17th 9 am till 2 pm each day\, Friday and Saturday \nGood luck! And Have a Happy Spring !!
URL:https://www.stoneridgetc.com/event/garage-sale-2025/
LOCATION:StoneRidge Subdivision\, Hidden Creek Drive\, Traverse City\, 49684\, United States
CATEGORIES:Garage Sale
ATTACH;FMTTYPE=image/jpeg:https://www.stoneridgetc.com/wp-content/uploads/2015/04/garage_sale_stone_ridge.jpg
END:VEVENT
BEGIN:VEVENT
DTSTART;TZID=America/Detroit:20241209T180000
DTEND;TZID=America/Detroit:20241209T200000
DTSTAMP:20260419T224451
CREATED:20241112T140012Z
LAST-MODIFIED:20241112T140142Z
UID:2330-1733767200-1733774400@www.stoneridgetc.com
SUMMARY:ANNUAL MEETING 2024
DESCRIPTION:STONERIDGE PROPERTY OWNERS ASSOCIATION\nANNUAL MEETING NOTICE \nMonday\, December 9\, 2024 6 pm\nLocation - 12935 S. West Bay Shore Dr. TC\, MI (Centerpointe (4th floor auditorium) 12935 S West Bay Shore Dr. TC MI)
URL:https://www.stoneridgetc.com/event/annual-meeting-2024/
LOCATION:CENTERPOINTE\, 12935 S. WEST BAY SHORE DR\, Traverse City\, MI\, 49684\, United States
CATEGORIES:Annual Meeting
ATTACH;FMTTYPE=image/jpeg:https://www.stoneridgetc.com/wp-content/uploads/2014/12/annual-meeting-clip-art_506392-e1698791797541.jpg
ORGANIZER;CN="Tim Webb":MAILTO:tim.gmi@hotmail.com
END:VEVENT
BEGIN:VEVENT
DTSTART;TZID=America/Detroit:20240517T090000
DTEND;TZID=America/Detroit:20240518T140000
DTSTAMP:20260419T224451
CREATED:20240428T231647Z
LAST-MODIFIED:20240430T214240Z
UID:2298-1715936400-1716040800@www.stoneridgetc.com
SUMMARY:Garage Sale 2024
DESCRIPTION:Annual StoneRidge Garage / Yard sale \nMay 17th and 18th 9 am till 2 pm each day\, Friday and Saturday \nGood luck! And Have a Happy Spring !!
URL:https://www.stoneridgetc.com/event/garage-sale-2024/
LOCATION:StoneRidge Subdivision\, Hidden Creek Drive\, Traverse City\, 49684\, United States
CATEGORIES:Garage Sale
ATTACH;FMTTYPE=image/jpeg:https://www.stoneridgetc.com/wp-content/uploads/2015/04/garage_sale_stone_ridge.jpg
END:VEVENT
BEGIN:VEVENT
DTSTART;TZID=America/Detroit:20231109T180000
DTEND;TZID=America/Detroit:20231109T200000
DTSTAMP:20260419T224451
CREATED:20231031T223535Z
LAST-MODIFIED:20231031T223818Z
UID:2235-1699552800-1699560000@www.stoneridgetc.com
SUMMARY:ANNUAL MEETING 2023
DESCRIPTION:STONERIDGE PROPERTY OWNERS ASSOCIATION\nANNUAL MEETING NOTICE \nThursday\, November 9\, 2023\nTime - 6 p.m.\nLocation - 12935 S. West Bay Shore Dr. TC\, MI (CentrePointe Office & Marine Complex) 3rd floor conference room.
URL:https://www.stoneridgetc.com/event/annual-meeting-2023/
LOCATION:CENTERPOINTE\, 12935 S. WEST BAY SHORE DR\, Traverse City\, MI\, 49684\, United States
CATEGORIES:Annual Meeting
ATTACH;FMTTYPE=image/jpeg:https://www.stoneridgetc.com/wp-content/uploads/2014/12/annual-meeting-clip-art_506392-e1698791797541.jpg
ORGANIZER;CN="Tim Webb":MAILTO:tim.gmi@hotmail.com
END:VEVENT
BEGIN:VEVENT
DTSTART;TZID=America/Detroit:20230520T090000
DTEND;TZID=America/Detroit:20230520T140000
DTSTAMP:20260419T224451
CREATED:20230425T022753Z
LAST-MODIFIED:20230425T024417Z
UID:2209-1684573200-1684591200@www.stoneridgetc.com
SUMMARY:Garage Sale 2023
DESCRIPTION:Annual StoneRidge Garage / Yard sale \nMay 19th and 20th 9 am till 2 pm each day\, Friday and Saturday \nGood luck! And Have a Happy Spring !!
URL:https://www.stoneridgetc.com/event/garage-sale-2023-2/
LOCATION:StoneRidge Subdivision\, Hidden Creek Drive\, Traverse City\, 49684\, United States
CATEGORIES:Garage Sale
ATTACH;FMTTYPE=image/jpeg:https://www.stoneridgetc.com/wp-content/uploads/2015/04/garage_sale_stone_ridge.jpg
END:VEVENT
BEGIN:VEVENT
DTSTART;TZID=America/Detroit:20220513T090000
DTEND;TZID=America/Detroit:20220514T140000
DTSTAMP:20260419T224451
CREATED:20220421T211248Z
LAST-MODIFIED:20220503T202353Z
UID:2152-1652432400-1652536800@www.stoneridgetc.com
SUMMARY:Garage Sale 2022
DESCRIPTION:Annual StoneRidge Garage / Yard sale \nMay 13th and 14th 9 am till 2 pm each day\, Friday and Saturday \nGood luck! And Have a Happy Spring !!
URL:https://www.stoneridgetc.com/event/garage-sale-2022/
LOCATION:StoneRidge Subdivision\, Hidden Creek Drive\, Traverse City\, 49684\, United States
CATEGORIES:Garage Sale
ATTACH;FMTTYPE=image/jpeg:https://www.stoneridgetc.com/wp-content/uploads/2015/04/garage_sale_stone_ridge.jpg
ORGANIZER;CN="Tim Webb":MAILTO:tim.gmi@hotmail.com
END:VEVENT
BEGIN:VEVENT
DTSTART;TZID=America/Detroit:20211117T180000
DTEND;TZID=America/Detroit:20211117T200000
DTSTAMP:20260419T224451
CREATED:20211112T183523Z
LAST-MODIFIED:20211112T184918Z
UID:2139-1637172000-1637179200@www.stoneridgetc.com
SUMMARY:ANNUAL MEETING 2021
DESCRIPTION:STONERIDGE PROPERTY OWNERS ASSOCIATION\nANNUAL MEETING NOTICE \nWHEN: WEDNESDAY\, NOVEMBER 17\, 2021\nTIME: 6:00 P.M.\nPLACE: CENTERPOINTE 12935 S. WEST BAY SHORE DR. (3RD FLOOR CONFERENCE ROOM)
URL:https://www.stoneridgetc.com/event/annual-meeting-2021/
LOCATION:CENTERPOINTE\, 12935 S. WEST BAY SHORE DR\, Traverse City\, MI\, 49684\, United States
CATEGORIES:Annual Meeting
ATTACH;FMTTYPE=image/jpeg:https://www.stoneridgetc.com/wp-content/uploads/2014/12/annual-meeting-clip-art_506392-e1698791797541.jpg
ORGANIZER;CN="Tim Webb":MAILTO:tim.gmi@hotmail.com
END:VEVENT
BEGIN:VEVENT
DTSTART;TZID=America/Detroit:20210514T090000
DTEND;TZID=America/Detroit:20210515T140000
DTSTAMP:20260419T224451
CREATED:20210429T210201Z
LAST-MODIFIED:20210429T211335Z
UID:2126-1620982800-1621087200@www.stoneridgetc.com
SUMMARY:Garage Sale 2021
DESCRIPTION:Annual Stone Ridge Garage / Yard sale \nMay 14th and 15th 9 am till 2 pm each day\, Friday and Saturday \nGood luck! and Have a Happy Spring !!
URL:https://www.stoneridgetc.com/event/garage-sale-2021/
LOCATION:StoneRidge Subdivision\, Hidden Creek Drive\, Traverse City\, 49684\, United States
CATEGORIES:Garage Sale
ORGANIZER;CN="Tim Webb":MAILTO:tim.gmi@hotmail.com
END:VEVENT
BEGIN:VEVENT
DTSTART;TZID=America/Detroit:20190517T090000
DTEND;TZID=America/Detroit:20190518T140000
DTSTAMP:20260419T224451
CREATED:20190404T032304Z
LAST-MODIFIED:20190404T032304Z
UID:2057-1558083600-1558188000@www.stoneridgetc.com
SUMMARY:Garage Sale 2019
DESCRIPTION:Annual Stone Ridge Garage / Yard sale \nMay 17th and 18th 9 am till 2 pm each day\, Friday and Saturday \nGood luck! and Have a Happy Spring !!
URL:https://www.stoneridgetc.com/event/garage-sale-2019/
LOCATION:StoneRidge Subdivision\, Hidden Creek Drive\, Traverse City\, 49684\, United States
CATEGORIES:Garage Sale
ORGANIZER;CN="Tim Webb":MAILTO:tim.gmi@hotmail.com
END:VEVENT
BEGIN:VEVENT
DTSTART;TZID=America/Detroit:20181216T130000
DTEND;TZID=America/Detroit:20181216T140000
DTSTAMP:20260419T224451
CREATED:20181214T195038Z
LAST-MODIFIED:20181214T195038Z
UID:2036-1544965200-1544968800@www.stoneridgetc.com
SUMMARY:2018 Annual Meeting
DESCRIPTION:The annual StoneRidge 2018 association meeting will be Sunday\, December 16th at 1pm to 2pm.  Location: The home of Richard Burgett 4327 Stoneridge Dr..
URL:https://www.stoneridgetc.com/event/2018-annual-meeting/
LOCATION:Richard Burgett’s Home\, 4327 Stoneridge Dr.\, Traverse City\, MI\, 49684\, United States
CATEGORIES:Annual Meeting
ORGANIZER;CN="Tim Webb":MAILTO:tim.gmi@hotmail.com
END:VEVENT
BEGIN:VEVENT
DTSTART;TZID=America/Detroit:20180525T080000
DTEND;TZID=America/Detroit:20180528T170000
DTSTAMP:20260419T224451
CREATED:20180507T221543Z
LAST-MODIFIED:20180507T221543Z
UID:2018-1527235200-1527526800@www.stoneridgetc.com
SUMMARY:Backflow Inspections 2018
DESCRIPTION:Click to read more about 2018 Backflow Inspections
URL:https://www.stoneridgetc.com/event/backflow-inspections-2018/
CATEGORIES:Backflow Inspecton
END:VEVENT
BEGIN:VEVENT
DTSTART;TZID=America/Detroit:20180518T090000
DTEND;TZID=America/Detroit:20180519T140000
DTSTAMP:20260419T224451
CREATED:20180103T222402Z
LAST-MODIFIED:20180508T051829Z
UID:2007-1526634000-1526738400@www.stoneridgetc.com
SUMMARY:Garage Sale 2018
DESCRIPTION:Annual Stone Ridge Garage / Yard sale \n9am till 2pm each day each day\, Friday and Saturday \nGood luck! and Happy Spring !!
URL:https://www.stoneridgetc.com/event/garage-sale-2018/
LOCATION:StoneRidge Subdivision\, Hidden Creek Drive\, Traverse City\, 49684\, United States
CATEGORIES:Garage Sale
END:VEVENT
BEGIN:VEVENT
DTSTART;TZID=America/Detroit:20170519T090000
DTEND;TZID=America/Detroit:20170520T140000
DTSTAMP:20260419T224451
CREATED:20170406T211049Z
LAST-MODIFIED:20170512T182558Z
UID:1994-1495184400-1495288800@www.stoneridgetc.com
SUMMARY:Garage Sale 2017
DESCRIPTION:Annual Stone Ridge Garage / Yard sale \n9am till 2pm each day\, Friday and Saturday \nGood luck!
URL:https://www.stoneridgetc.com/event/garage-sale-2017/
LOCATION:StoneRidge Subdivision\, Hidden Creek Drive\, Traverse City\, 49684\, United States
CATEGORIES:Garage Sale
ORGANIZER;CN="Tim Webb":MAILTO:tim.gmi@hotmail.com
END:VEVENT
BEGIN:VEVENT
DTSTART;TZID=America/Detroit:20161204T130000
DTEND;TZID=America/Detroit:20161204T140000
DTSTAMP:20260419T224451
CREATED:20161027T044130Z
LAST-MODIFIED:20161028T145037Z
UID:497-1480856400-1480860000@www.stoneridgetc.com
SUMMARY:Annual Meeting 2016
DESCRIPTION:The annual StoneRidge 2016 association meeting will be Sunday\, December 4th at 1pm to 2pm.  Location: Tim Webb’s office\, Granville Management\, 310 W. Front Street\, suite# 305.  The building is located just west of J&S Hamburg downtown.  There is plenty of street parking directly across from his office.
URL:https://www.stoneridgetc.com/event/annual-meeting-2016/
LOCATION:Granville Management\, 310 W Front Street\, suite# 305\, Traverse City\, MI\, 49684\, United States
CATEGORIES:Annual Meeting
ORGANIZER;CN="Tim Webb":MAILTO:tim.gmi@hotmail.com
END:VEVENT
BEGIN:VEVENT
DTSTART;TZID=America/Detroit:20160513T090000
DTEND;TZID=America/Detroit:20160514T140000
DTSTAMP:20260419T224451
CREATED:20160413T224920Z
LAST-MODIFIED:20160415T143817Z
UID:458-1463130000-1463234400@www.stoneridgetc.com
SUMMARY:Garage Sale 2016
DESCRIPTION:Annual Stone Ridge Garage / Yard sale \n9am till 2pm each day\, Friday and Saturday \nGood luck!
URL:https://www.stoneridgetc.com/event/garage-sale-2016/
LOCATION:StoneRidge Subdivision\, Hidden Creek Drive\, Traverse City\, 49684\, United States
CATEGORIES:Garage Sale
ORGANIZER;CN="Tom Pointe":MAILTO:tom@inacomptc.com
END:VEVENT
BEGIN:VEVENT
DTSTART;TZID=America/Detroit:20151206T130000
DTEND;TZID=America/Detroit:20151206T140000
DTSTAMP:20260419T224451
CREATED:20151106T012338Z
LAST-MODIFIED:20151106T162120Z
UID:421-1449406800-1449410400@www.stoneridgetc.com
SUMMARY:Annual Meeting 2015
DESCRIPTION:The annual StoneRidge 2015 association meeting will be Sunday\, December 6th at 1pm to 2pm.  Location: Tim Webb’s office\, Granville Management\, 310 W. Front Street\, suite# 305.  The building is located just west of J&S Hamburg downtown.  There is plenty of street parking directly across from his office.
URL:https://www.stoneridgetc.com/event/annual-meeting-2015/
LOCATION:Granville Management\, 310 W Front Street\, suite# 305\, Traverse City\, MI\, 49684\, United States
CATEGORIES:Annual Meeting
END:VEVENT
BEGIN:VEVENT
DTSTART;TZID=America/Detroit:20141102T130000
DTEND;TZID=America/Detroit:20141102T150000
DTSTAMP:20260419T224451
CREATED:20140826T220041Z
LAST-MODIFIED:20151106T011831Z
UID:244-1414933200-1414940400@www.stoneridgetc.com
SUMMARY:Annual Meeting 2014
DESCRIPTION:2014 Annual Meeting - Meeting Minutes
URL:https://www.stoneridgetc.com/event/annual-meeting-2014/
LOCATION:Church of Christ\, 3250 Rennie Street\, Traverse City\, MI\, 49686\, United States
CATEGORIES:Annual Meeting
ORGANIZER;CN="Tom Pointe":MAILTO:tom@inacomptc.com
END:VEVENT
END:VCALENDAR